BEGIN:VCALENDAR
VERSION:2.0
PRODID:-//Chemins-Bideak Saint-Palais - ECPv4.9.2//NONSGML v1.0//EN
CALSCALE:GREGORIAN
METHOD:PUBLISH
X-WR-CALNAME:Chemins-Bideak Saint-Palais
X-ORIGINAL-URL:https://www.chemins-bideak.com
X-WR-CALDESC:Évènements pour Chemins-Bideak Saint-Palais
BEGIN:VEVENT
DTSTART;VALUE=DATE:20181013
DTEND;VALUE=DATE:20181015
DTSTAMP:20260421T181740
CREATED:20180208T111007Z
LAST-MODIFIED:20180328T124401Z
UID:2273-1539388800-1539561599@www.chemins-bideak.com
SUMMARY:20 ans de recherches aux Grottes d'Isturitz et d'Oxocelhaya
DESCRIPTION:13/14 et 20/21 octobre 2018 : Rencontres D’Isturitz à l’Espace Chemins-Bideak\n20 années de recherches archéologiques sur le site préhistorique majeur d’Isturitz révélées et partagées avec le public le plus large. Une trentaine de chercheurs présenteront leurs exceptionnelles découvertes. ` \nLe programme détaillé de cet événement très important pour Les grottes d’Isturitz et Oxocelhaya et l’Espace Chemins-Bideak sera dévoilé ultérieurement. \n
URL:https://www.chemins-bideak.com/fr/evenements/20-ans-de-recherches-aux-grottes-disturitz-doxocelhaya/
LOCATION:Espace Chemins Bideak\, 55 avenue de Gibraltar\, Saint-Palais\, 64120\, France
GEO:43.327408;-1.032999
X-APPLE-STRUCTURED-LOCATION;VALUE=URI;X-ADDRESS=Espace Chemins Bideak 55 avenue de Gibraltar Saint-Palais 64120 France;X-APPLE-RADIUS=500;X-TITLE=55 avenue de Gibraltar:geo:-1.032999,43.327408
ORGANIZER;CN="Les%20Grottes%20d%27Isturitz%20et%20d%27Oxocelhaya":MAILTO:contact@grottes-isturitz.com
END:VEVENT
END:VCALENDAR