BEGIN:VCALENDAR
VERSION:2.0
PRODID:-//Chemins-Bideak Saint-Palais - ECPv4.9.2//NONSGML v1.0//EN
CALSCALE:GREGORIAN
METHOD:PUBLISH
X-WR-CALNAME:Chemins-Bideak Saint-Palais
X-ORIGINAL-URL:https://www.chemins-bideak.com
X-WR-CALDESC:Évènements pour Chemins-Bideak Saint-Palais
BEGIN:VEVENT
DTSTART;TZID=Europe/Paris:20160719T100000
DTEND;TZID=Europe/Paris:20160719T150000
DTSTAMP:20260421T101022
CREATED:20160609T162005Z
LAST-MODIFIED:20160609T162629Z
UID:1400-1468922400-1468940400@www.chemins-bideak.com
SUMMARY:Balade accompagnée sur le GR654 avec le CPIE
DESCRIPTION:Balade accompagnée gratuite\, avec le CPIE Pays Basque. \nFraîchement inauguré\, le nouveau tracé du GR654 jusqu’à la stèle de Gibraltar vous réserve quelques surprises de tailles. Le temps d’une journée\, laissez vous guider par un amoureux de la nature au grès des chemins à la découverte des arbres. Les secrets du chêne tauzin\, du châtaignier commun\, du saule marsault et tant d’autres vous seront dévoilés lors d’une randonnée vers les sculptures de Christian Lapie. De là\, vous pourrez partager un pique nique convivial dans un cadre somptueux avec pour toile de fond la chaîne des Pyrénées. Il vous suffira ensuite de poursuivre votre chemin vers Saint Palais pour finir cette boucle à l’Espace Chemins-Bideak. \nPour profiter de cette balade commentée\, 4 journées sont programmées : les  28 juin\, 19 juillet\, 16 août et 6 septembre. \nINFOS PRATIQUES : \n\nRendez-vous à l’accueil de l’Espace Chemins-Bideak\, (1 route de Gibraltar – 64120 Saint-Palais) à 10h\, retour prévu pour 15h.\nRandonnée d’environ 8km pour 205m de dénivelé négatif et positif.\nPrévoir un pique nique ainsi qu’une tenue vestimentaire adaptée à l’activité de randonnée.\nInscription obligatoire auprès du CPIE Pays Basque au 05 59 34 47 20 ou par mail à l’adresse : cpie.pays.basque@wanadoo.fr.\n©Nicolas Bernos – CPIE Pays Basque\n\n
URL:https://www.chemins-bideak.com/fr/evenements/balade-accompagnee-gr654-2/
LOCATION:Espace Chemins Bideak\, 55 avenue de Gibraltar\, Saint-Palais\, 64120\, France
GEO:43.327408;-1.032999
X-APPLE-STRUCTURED-LOCATION;VALUE=URI;X-ADDRESS=Espace Chemins Bideak 55 avenue de Gibraltar Saint-Palais 64120 France;X-APPLE-RADIUS=500;X-TITLE=55 avenue de Gibraltar:geo:-1.032999,43.327408
ORGANIZER;CN="CPIE%20Pays%20Basque":MAILTO:cpie.pays.basque@wanadoo.fr.
END:VEVENT
END:VCALENDAR