BEGIN:VCALENDAR
VERSION:2.0
PRODID:-//Chemins-Bideak Saint-Palais - ECPv4.9.2//NONSGML v1.0//EN
CALSCALE:GREGORIAN
METHOD:PUBLISH
X-WR-CALNAME:Chemins-Bideak Saint-Palais
X-ORIGINAL-URL:https://www.chemins-bideak.com
X-WR-CALDESC:Évènements pour Chemins-Bideak Saint-Palais
BEGIN:VEVENT
DTSTART;TZID=Europe/Paris:20230826T190000
DTEND;TZID=Europe/Paris:20230826T203000
DTSTAMP:20260423T083512
CREATED:20230820T100847Z
LAST-MODIFIED:20230820T100847Z
UID:4574-1693076400-1693081800@www.chemins-bideak.com
SUMMARY:Concert Choeur mixte basque de Bayonne Xaramela
DESCRIPTION:Le chœur mixte basque de Bayonne XARAMELA donnera un concert exceptionnel à SAINT-PALAIS le samedi 26 août à 19 heures\, à l’ancienne chapelle du couvent des Franciscains. \nXARAMELA a toujours eu la passion du chant\, et depuis maintenant plus de trente-sept ans\, ses choristes sous la baguette de son chef de chœur Robert Estagnan\, font passer à travers leurs voix les vibrations des œuvres qu’ils interprètent. \nDes œuvres bien entendu d’auteurs Basques comme Javier Busto\, Padre Donostia\, Zubizarreta\, Julen Ezkurra\, Pablo Sorozabal\, Junkal Guerrero et bien d’autres anciens ou contemporains\, qui ont écrit et composé les plus belles pages musicales tant sacrées que profanes ou folkloriques\, que XARAMELA s’attache à promouvoir et faire connaître. \nSans oublier Josù Elberdin\, dans une pièce sacrée époustouflante\, qui débute dans une atmosphère de cathédrale anglaise\, se poursuit dans une ferveur tout en latin\, pour finir par exploser en basque dans un rythme qui rappelle les danses de nos provinces. A écouter absolument ! \nMais XARAMELA se tourne volontiers vers le répertoire d’auteurs étrangers\, comme Brian Schmidt\, auteur américain de « Lux Aeterna » ou Piotr Janczak\, compositeur Polonais d’un « Kyrie » résolument moderne\, qui ont écrit de belles œuvres qui font vibrer par les riches interprétations du chœur. \nXARAMELA s’est produit toujours avec bonheur au Canada\, en Italie\, en Espagne\, en Bulgarie\, en République Tchèque\, ainsi que dans de nombreuses Régions de France. Il a obtenu plusieurs distinctions lors de prestations internationales dont une médaille d’argent au prestigieux concours international de Prague. \nUn rendez-vous musical à ne pas rater ! \nParticipation libre. Réservation au 06.70.62.68.41 ou contact@chemins-bideak.com  \n
URL:https://www.chemins-bideak.com/fr/evenements/concert-choeur-mixte-basque-de-bayonne-xaramela/
LOCATION:Espace Chemins Bideak\, 55 avenue de Gibraltar\, Saint-Palais\, 64120\, France
GEO:43.327408;-1.032999
X-APPLE-STRUCTURED-LOCATION;VALUE=URI;X-ADDRESS=Espace Chemins Bideak 55 avenue de Gibraltar Saint-Palais 64120 France;X-APPLE-RADIUS=500;X-TITLE=55 avenue de Gibraltar:geo:-1.032999,43.327408
CATEGORIES:concert
ATTACH;FMTTYPE=image/jpeg:https://www.chemins-bideak.com/wp-content/uploads/2023/08/concert-26-aout-xaramela-ok.jpg
END:VEVENT
END:VCALENDAR