BEGIN:VCALENDAR
VERSION:2.0
PRODID:-//Chemins-Bideak Saint-Palais - ECPv4.9.2//NONSGML v1.0//EN
CALSCALE:GREGORIAN
METHOD:PUBLISH
X-WR-CALNAME:Chemins-Bideak Saint-Palais
X-ORIGINAL-URL:https://www.chemins-bideak.com
X-WR-CALDESC:Évènements pour Chemins-Bideak Saint-Palais
BEGIN:VEVENT
DTSTART;TZID=Europe/Paris:20240620T203000
DTEND;TZID=Europe/Paris:20240620T223000
DTSTAMP:20260422T093909
CREATED:20240610T083951Z
LAST-MODIFIED:20240610T084231Z
UID:5177-1718915400-1718922600@www.chemins-bideak.com
SUMMARY:CONFERENCE "UN MOULIN A PAPIER A PROXIMITE DE SAINT-PALAIS : GESTAS"
DESCRIPTION:Jeudi 20 juin. \n20h30 à l’auditorium. \nJeanne Valois proposera une conférence intitulée « Un moulin à papier à proximité de Saint-Palais : Gestas ». \nAprès avoir évoqué le fonctionnement des moulins à papier et la zone géographique ouest-pyrénéenne comprise entre Saint-Jean-Pied-de-Port et Bagnères-de-Bigorre où 25 de ces établissements ont fonctionné\, notre regard se portera sur celui qui était le plus proche de Saint-Palais : le moulin à papier de Gestas. Qui étaient ses bâtisseurs et les papetiers qui l’exploitaient ? D’où venaient-ils et dans quelles conditions travaillaient-ils ? Comment identifiait-on leurs productions\, quelles étaient leurs destinations et leurs moyens d’acheminement ? Et pourquoi cette papeterie a-t-elle cessé de fabriquer des papiers ?  \nVoilà entre autres les aspects qui seront abordés au cours de cette présentation. \nJeanne Valois est une passionnée d’histoire\, infatigable dépouilleuse d’archives des temps modernes. Elle publie régulièrement dans des revues savantes ou locales. Elle est reconnue comme une spécialiste de l’histoire industrielle du papier par ses pairs. \nParticipation libre. \n
URL:https://www.chemins-bideak.com/fr/evenements/conference-un-moulin-a-papier-a-proximite-de-saint-palais-gestas/
LOCATION:Espace Chemins Bideak\, 55 avenue de Gibraltar\, Saint-Palais\, 64120\, France
GEO:43.327408;-1.032999
X-APPLE-STRUCTURED-LOCATION;VALUE=URI;X-ADDRESS=Espace Chemins Bideak 55 avenue de Gibraltar Saint-Palais 64120 France;X-APPLE-RADIUS=500;X-TITLE=55 avenue de Gibraltar:geo:-1.032999,43.327408
CATEGORIES:Conférence
ATTACH;FMTTYPE=image/jpeg:https://www.chemins-bideak.com/wp-content/uploads/2024/06/conference-20-juin-2024.jpg
END:VEVENT
END:VCALENDAR