BEGIN:VCALENDAR
VERSION:2.0
PRODID:-//Chemins-Bideak Saint-Palais - ECPv4.9.2//NONSGML v1.0//EN
CALSCALE:GREGORIAN
METHOD:PUBLISH
X-WR-CALNAME:Chemins-Bideak Saint-Palais
X-ORIGINAL-URL:https://www.chemins-bideak.com
X-WR-CALDESC:Évènements pour Chemins-Bideak Saint-Palais
BEGIN:VEVENT
DTSTART;TZID=Europe/Paris:20260505T100000
DTEND;TZID=Europe/Paris:20260626T180000
DTSTAMP:20260421T130803
CREATED:20260415T162608Z
LAST-MODIFIED:20260416T154224Z
UID:6770-1777975200-1782496800@www.chemins-bideak.com
SUMMARY:Exposition Emmanuel Doser à Saint-Palais : “Chemin aimant\, réflexion sur le cheminement”
DESCRIPTION:Emmanuel Doser présente son exposition « Chemin aimant\, réflexion sur le cheminement » du 5 mai au 26 juin à l’Espace Culturel Bideak. \nUne exposition entre collages numériques et gravures\nÀ travers une série de collages numériques et de gravures\, Emmanuel Doser explore le cheminement comme une succession de moments plutôt qu’un parcours linéaire. Son travail mêle fragments d’images\, superpositions et traces imprimées pour créer des œuvres sensibles et ouvertes à l’interprétation. \nLa gravure apporte la notion d’empreinte et de répétition\, tandis que le photomontage introduit le déplacement\, la collision des images et la coexistence de différents univers. De cette rencontre naît un langage visuel riche\, où chaque œuvre propose plusieurs lectures. \nUne démarche artistique ancrée dans l’image et l’impression\nGraphiste à l’Imprimerie de Basse-Navarre\, l’artiste développe en parallèle une pratique personnelle qui prolonge son rapport au visuel et à la matière imprimée. \nSon expérience professionnelle nourrit son approche artistique : précision du geste\, attention aux textures\, goût pour la composition et le dialogue entre les images. Il construit ainsi des univers où se croisent technique et expérimentation. \n“Chemin aimant” : une invitation à explorer ses propres trajectoires\nLe terme « aimant » évoque les forces d’attraction et de répulsion qui influencent nos choix. À l’image de ses œuvres\, nos parcours sont faits de rapprochements\, d’écarts et de contradictions. \nL’exposition propose au visiteur une traversée personnelle\, entre images et pensées\, où chacun est invité à reconnaître ses propres chemins dans cette cartographie sensible. \nPourquoi visiter cette exposition à Saint-Palais ?\nAccessible à tous\, cette exposition séduira aussi bien les amateurs d’art que les visiteurs curieux. Elle offre une expérience immersive\, entre réflexion et émotion\, dans un lieu culturel incontournable de Saint-Palais. \nPour en savoir plus sur Emmanuel Doser\, cliquez ici. \n
URL:https://www.chemins-bideak.com/fr/evenements/exposition-emmanuel-doser-a-saint-palais-chemin-aimant-reflexion-sur-le-cheminement/
LOCATION:Espace Chemins Bideak\, 55 avenue de Gibraltar\, Saint-Palais\, 64120\, France
GEO:43.327408;-1.032999
X-APPLE-STRUCTURED-LOCATION;VALUE=URI;X-ADDRESS=Espace Chemins Bideak 55 avenue de Gibraltar Saint-Palais 64120 France;X-APPLE-RADIUS=500;X-TITLE=55 avenue de Gibraltar:geo:-1.032999,43.327408
CATEGORIES:exposition
ATTACH;FMTTYPE=image/jpeg:https://www.chemins-bideak.com/wp-content/uploads/2026/04/750x360.jpg
END:VEVENT
END:VCALENDAR