BEGIN:VCALENDAR
VERSION:2.0
PRODID:-//Chemins-Bideak Saint-Palais - ECPv4.9.2//NONSGML v1.0//EN
CALSCALE:GREGORIAN
METHOD:PUBLISH
X-WR-CALNAME:Chemins-Bideak Saint-Palais
X-ORIGINAL-URL:https://www.chemins-bideak.com
X-WR-CALDESC:Évènements pour Chemins-Bideak Saint-Palais
BEGIN:VEVENT
DTSTART;TZID=Europe/Paris:20241003T190000
DTEND;TZID=Europe/Paris:20241003T210000
DTSTAMP:20260421T084628
CREATED:20240916T083750Z
LAST-MODIFIED:20240916T090347Z
UID:5405-1727982000-1727989200@www.chemins-bideak.com
SUMMARY:Festival Mugarik Gabe (conférence)
DESCRIPTION:Jeudi 3 octobre. \n19h à l’auditorium de l’Espace Culturel Bideak. \nConférence « Frontières meurtrières »\n• Le parcours migratoire dans le Sahara nigérien\, piège mortel des politiques sécuritaires Avec Tcherno Hamadou Boulama (Défenseur des droits\, Alternative Espaces Citoyens – Niger / collectif Loujna Tounkaranké).\n• Morts en Méditerranée : entre deuil et mobilisation Avec Jalila Taamallah (mère de morts en Méditerranée\, représentante de Mem. Med Memoria Mediterranea – Tunisie) et Hajer Ayachi (collectif des familles de disparu·e·s). \nOrganisée par les associations Locales Etor Bide et Etorkinekin Elkartasuna Amikuzen. \nUrriaren 3an ostegunez. \n19:00 Bideak Kultur Guneko auditorioan. \n« Muga hiltzaileak » mintzaldia:\n• Migrazio ibilbidea Nigeriako Saharan : seguritatearen inguruko politiken zepo erahilkorra Tcherno Hamadou Boulama-rekin (eskubideen Defenditzailea\, Herritarren Gunearen Alternatiba – Niger/Loujna Tounkaranké kolektiboa).\n• Mediterranoan hilak : dolua eta mobilizazioaren artean Jalila Taamallah-rekin (Mediterraneoan hil diren batzuren ama\, Tunisiako Mem.Med Memoria Mediterranearen ordezkaria) eta Hajer Ayachi-rekin (desagertuen familien kolektiboa). \nEtor Bide eta Etorkinekin Elkartasuna Amikuzen tokiko taldeek antolaturik. \n
URL:https://www.chemins-bideak.com/fr/evenements/festival-mugarik-gabe-conference/
LOCATION:Espace Chemins Bideak\, 55 avenue de Gibraltar\, Saint-Palais\, 64120\, France
GEO:43.327408;-1.032999
X-APPLE-STRUCTURED-LOCATION;VALUE=URI;X-ADDRESS=Espace Chemins Bideak 55 avenue de Gibraltar Saint-Palais 64120 France;X-APPLE-RADIUS=500;X-TITLE=55 avenue de Gibraltar:geo:-1.032999,43.327408
CATEGORIES:Conférence
ATTACH;FMTTYPE=image/jpeg:https://www.chemins-bideak.com/wp-content/uploads/2024/09/depliant-mugarik-gabe-fr-vdefok-1_page-0002.jpg
END:VEVENT
END:VCALENDAR