BEGIN:VCALENDAR
VERSION:2.0
PRODID:-//Chemins-Bideak Saint-Palais - ECPv4.9.2//NONSGML v1.0//EN
CALSCALE:GREGORIAN
METHOD:PUBLISH
X-WR-CALNAME:Chemins-Bideak Saint-Palais
X-ORIGINAL-URL:https://www.chemins-bideak.com
X-WR-CALDESC:Évènements pour Chemins-Bideak Saint-Palais
BEGIN:VEVENT
DTSTART;TZID=Europe/Paris:20210722T203000
DTEND;TZID=Europe/Paris:20210722T203000
DTSTAMP:20260422T082814
CREATED:20210521T140056Z
LAST-MODIFIED:20210604T100231Z
UID:3564-1626985800-1626985800@www.chemins-bideak.com
SUMMARY:« Habiter la montagne\, traverser les ports. Édifices romans et structures d’accueil en Pyrénées » par Maritchu ETCHEVERRY
DESCRIPTION:CONFERENCE organisée par les Amis du Musée de la Basse Navarre. \n\n\n\n\nDurant les XIe et XIIe siècles\, un renouveau spirituel sans précédent insuffle un nouvel élan à la foi chrétienne.\nEn Pays basque\, près de 150 monastères et églises façonnent ce territoire composite. De l’effervescence des chantiers d’alors demeurent quelques monuments majeurs\, de plus modestes églises ainsi que le souvenir d’établissements disparus.\n \n\n\n\nMaritchu Etcheverry est docteure en Histoire de l’Art Médiéval et chercheure associée à l’Université de Pau et des Pays de l’Adour\, elle est spécialiste d’architecture et de décor sculpté en Pays basque et Navarre aux XIe et XIIe siècles. Ses travaux portent sur l’organisation des communautés religieuses\, sur les questions de commanditaires et d’artistes\, sur les échanges transpyrénéens ainsi que sur la perception de l’édifice roman au XIXe siècle. Elle a enseigné dix ans à l’Université de Toulouse Jean- Jaurès et de Pau. Actuellement chargée de valorisation du patrimoine\, elle participe à la connaissance et à la sensibilisation autour des patrimoines culturel et immatériel en Pays basque et sud des Landes. \n\n\n\n\n\n\n\nPlus d’infos : www.mubana.fr \n
URL:https://www.chemins-bideak.com/fr/evenements/habiter-la-montagne-traverser-les-ports-edifices-romans-et-structures-daccueil-en-pyrenees-par-maritchu-etcheverry/
LOCATION:Espace Chemins Bideak\, 55 avenue de Gibraltar\, Saint-Palais\, 64120\, France
GEO:43.327408;-1.032999
X-APPLE-STRUCTURED-LOCATION;VALUE=URI;X-ADDRESS=Espace Chemins Bideak 55 avenue de Gibraltar Saint-Palais 64120 France;X-APPLE-RADIUS=500;X-TITLE=55 avenue de Gibraltar:geo:-1.032999,43.327408
CATEGORIES:Conférence
ATTACH;FMTTYPE=image/jpeg:https://www.chemins-bideak.com/wp-content/uploads/2021/05/tresorsartroman_couv1_bd.jpg
ORGANIZER;CN="Amis%20du%20mus%C3%A9e%20de%20Basse%20Navarre":MAILTO:mubana64@gmail.com
END:VEVENT
END:VCALENDAR