BEGIN:VCALENDAR
VERSION:2.0
PRODID:-//Chemins-Bideak Saint-Palais - ECPv4.9.2//NONSGML v1.0//EN
CALSCALE:GREGORIAN
METHOD:PUBLISH
X-WR-CALNAME:Chemins-Bideak Saint-Palais
X-ORIGINAL-URL:https://www.chemins-bideak.com
X-WR-CALDESC:Évènements pour Chemins-Bideak Saint-Palais
BEGIN:VEVENT
DTSTART;TZID=Europe/Paris:20260523T180000
DTEND;TZID=Europe/Paris:20260523T220000
DTSTAMP:20260421T130432
CREATED:20260414T121334Z
LAST-MODIFIED:20260415T122923Z
UID:6757-1779559200-1779573600@www.chemins-bideak.com
SUMMARY:Nuit des Musées 2026 à Saint-Palais : visite nocturne gratuite à Bideak
DESCRIPTION:À l’occasion de la Nuit européenne des musées\, l’Espace Culturel Bideak vous ouvre exceptionnellement les portes du musée de Basse-Navarre et des chemins de Compostelle\, le samedi 23 mai de 18h à 22h. \nUne soirée exceptionnelle pour découvrir le musée autrement\nLe temps d’une soirée\, découvrez le musée autrement. À la tombée de la nuit\, les espaces d’exposition se parent d’une atmosphère plus intime\, propice à la flânerie\, à la curiosité et à l’évasion. En entrée libre\, chacun est invité à parcourir les collections à son rythme\, que ce soit en famille\, entre amis ou en solo. \nDeux visites guidées sont proposées à 18h00 et à 19h00 (sur inscription)\, pour approfondir la découverte des œuvres et des thématiques du musée. \nConcert du duo Oct’Opus : musique et poésie au musée\nÀ 20h30\, laissez-vous porter par le concert du duo Oct’Opus. Entre violon et contrebasse\, musique et poésie\, ce moment musical viendra prolonger l’expérience dans une ambiance sensible et immersive. \nGratuite et ouverte à toutes et tous\, cette soirée est une invitation à vivre la culture autrement\, dans un cadre chaleureux et accessible. \nPour en savoir plus sur la Nuit des Musées\, cliquez ici. \n
URL:https://www.chemins-bideak.com/fr/evenements/nuit-des-musees-2026/
LOCATION:Espace Chemins Bideak\, 55 avenue de Gibraltar\, Saint-Palais\, 64120\, France
GEO:43.327408;-1.032999
X-APPLE-STRUCTURED-LOCATION;VALUE=URI;X-ADDRESS=Espace Chemins Bideak 55 avenue de Gibraltar Saint-Palais 64120 France;X-APPLE-RADIUS=500;X-TITLE=55 avenue de Gibraltar:geo:-1.032999,43.327408
CATEGORIES:Animation
ATTACH;FMTTYPE=image/jpeg:https://www.chemins-bideak.com/wp-content/uploads/2026/04/hb-nm2026-post-960x540-visuel-infos.jpg
ORGANIZER;CN="Espace%20Culturel%20Bideak":MAILTO:contact@chemins-bideak.com
END:VEVENT
END:VCALENDAR