BEGIN:VCALENDAR
VERSION:2.0
PRODID:-//Chemins-Bideak Saint-Palais - ECPv4.9.2//NONSGML v1.0//EN
CALSCALE:GREGORIAN
METHOD:PUBLISH
X-WR-CALNAME:Chemins-Bideak Saint-Palais
X-ORIGINAL-URL:https://www.chemins-bideak.com
X-WR-CALDESC:Évènements pour Chemins-Bideak Saint-Palais
BEGIN:VEVENT
DTSTART;TZID=Europe/Paris:20240623T150000
DTEND;TZID=Europe/Paris:20240623T200000
DTSTAMP:20260420T121510
CREATED:20240621T154109Z
LAST-MODIFIED:20240621T154109Z
UID:5194-1719154800-1719172800@www.chemins-bideak.com
SUMMARY:SPECTACLE DE "XIBIOUZ LA GROTTE" "XIBIOUZ LA GROTTE" IKUSGARRIA
DESCRIPTION:Dimanche 23 juin à l’Espace Culturel Bideak.\nA 15h théâtre à l’auditorium (1ère session).\nA 17h danse au parc de jeux\, jardin paysager\, cloître.\nA 18h théâtre à l’auditorium (2ème session).\nRéservation en amont du spectacle auprès de Sylvie (07.60.71.63.11). \nEkainaren 23an igandearekin.\n15:00etan antzerkia auditorioan (lehen saioa).\n17:00etan dantza jolas parkea\, baratzea\, kalostra.\n18:00etan antzerkia auditorioan (bigarren saioa).\nIzen emaiteak ikusgarria aintzin : Sylvie (07.60.71.63.11). \n
URL:https://www.chemins-bideak.com/fr/evenements/spectacle-de-xibiouz-la-grotte-xibiouz-la-grotte-ikusgarria/
LOCATION:Espace Chemins Bideak\, 55 avenue de Gibraltar\, Saint-Palais\, 64120\, France
GEO:43.327408;-1.032999
X-APPLE-STRUCTURED-LOCATION;VALUE=URI;X-ADDRESS=Espace Chemins Bideak 55 avenue de Gibraltar Saint-Palais 64120 France;X-APPLE-RADIUS=500;X-TITLE=55 avenue de Gibraltar:geo:-1.032999,43.327408
CATEGORIES:spectacle
ATTACH;FMTTYPE=image/jpeg:https://www.chemins-bideak.com/wp-content/uploads/2024/06/xibiouz-23-juin.jpg
END:VEVENT
END:VCALENDAR