BEGIN:VCALENDAR
VERSION:2.0
PRODID:-//Chemins-Bideak Saint-Palais - ECPv4.9.2//NONSGML v1.0//EN
CALSCALE:GREGORIAN
METHOD:PUBLISH
X-WR-CALNAME:Chemins-Bideak Saint-Palais
X-ORIGINAL-URL:https://www.chemins-bideak.com
X-WR-CALDESC:Évènements pour Chemins-Bideak Saint-Palais
BEGIN:VEVENT
DTSTART;TZID=Europe/Paris:20250906T203000
DTEND;TZID=Europe/Paris:20250906T220000
DTSTAMP:20260423T085303
CREATED:20250812T154657Z
LAST-MODIFIED:20250813T121949Z
UID:5827-1757190600-1757196000@www.chemins-bideak.com
SUMMARY:Théâtre "Il était une fois dans le Sud-Ouest"
DESCRIPTION:Samedi 6 septembre\, 20h30 à l’auditorium de l’Espace Bideak \nProposée par la compagnie de Biarritz « Théâtrons Ensemble ». À mi-chemin entre une « Pagnolade » et « Les gendarmes de Saint-Tropez » façon Sud-Ouest\, cette soirée sera placée sous le signe de la convivialité\, du partage de l’humour et de la bonne humeur.\nUne petite cité balnéaire du pays basque connue pour sa chasse à la baileine vit au fil des saisons un douce quiétude. Le bonheur\, la gaité\, les amitiés\, les amours heureux\, déçus\, ratés\, cachés\, les fâcheries et quelques jalousies font le quotidien de cet endroit.\nL’arrivée d’un fier brigadier parisien des douanes va bouleverser ce fragile équilibre. « Encore un qui a cru être plus malin qu’un basque ». Tout cela se finit comme d’habitude au pays basque\, en dans et en riant. \nActeurs :\nHervé Aram\, Frédéric Berriex\, Pierre Bordet\, Saioa Ibarboure\, Cendrine Garry Santamaria\, Mélissa Garry Santamaria\, Lucas Gleyze. \n
URL:https://www.chemins-bideak.com/fr/evenements/theatre-il-etait-une-fois-dans-le-sud-ouest/
LOCATION:Espace Chemins Bideak\, 55 avenue de Gibraltar\, Saint-Palais\, 64120\, France
GEO:43.327408;-1.032999
X-APPLE-STRUCTURED-LOCATION;VALUE=URI;X-ADDRESS=Espace Chemins Bideak 55 avenue de Gibraltar Saint-Palais 64120 France;X-APPLE-RADIUS=500;X-TITLE=55 avenue de Gibraltar:geo:-1.032999,43.327408
CATEGORIES:spectacle,Théâtre
ATTACH;FMTTYPE=image/jpeg:https://www.chemins-bideak.com/wp-content/uploads/2025/08/affiche-st-palais-affiche-il-etait-une-fois-dans-le-sud-ouest-002-e1755013913772.jpg
END:VEVENT
END:VCALENDAR