BEGIN:VCALENDAR
VERSION:2.0
PRODID:-//Chemins-Bideak Saint-Palais - ECPv4.9.2//NONSGML v1.0//EN
CALSCALE:GREGORIAN
METHOD:PUBLISH
X-WR-CALNAME:Chemins-Bideak Saint-Palais
X-ORIGINAL-URL:https://www.chemins-bideak.com
X-WR-CALDESC:Évènements pour Chemins-Bideak Saint-Palais
BEGIN:VEVENT
DTSTART;TZID=Europe/Paris:20160924T100000
DTEND;TZID=Europe/Paris:20160924T120000
DTSTAMP:20260423T191109
CREATED:20160805T111223Z
LAST-MODIFIED:20160828T102649Z
UID:1571-1474711200-1474718400@www.chemins-bideak.com
SUMMARY:Visite de la plantation de Jean Marie Urrutibéhéty
DESCRIPTION:Jean Marie Urrutibéhéty accueille les visiteurs pour une visite de sa plantation\, le samedi 24 septembre. \nCe grand passionné des arbres\, professionnel expérimenté des filières bois\, a planté plus de 8000 arbres de toutes essences dans sa forêt à Domezain\, près de Saint Palais. \nRendez-vous à 10H00 sur la place du fronton de Domezain pour covoiturage. \n
URL:https://www.chemins-bideak.com/fr/evenements/visite-de-plantation-de-jean-marie-urrutibehety/
LOCATION:Espace Chemins Bideak\, 55 avenue de Gibraltar\, Saint-Palais\, 64120\, France
GEO:43.327408;-1.032999
X-APPLE-STRUCTURED-LOCATION;VALUE=URI;X-ADDRESS=Espace Chemins Bideak 55 avenue de Gibraltar Saint-Palais 64120 France;X-APPLE-RADIUS=500;X-TITLE=55 avenue de Gibraltar:geo:-1.032999,43.327408
ORGANIZER;CN="Espace%20Chemins%20Bideak":MAILTO:contact@chemins-bideak.com
END:VEVENT
END:VCALENDAR